BEGIN:VCALENDAR
VERSION:2.0
PRODID:-//ChamberMaster//Event Calendar 2.0//EN
METHOD:PUBLISH
X-PUBLISHED-TTL:P3D
REFRESH-INTERVAL:P3D
CALSCALE:GREGORIAN
BEGIN:VEVENT
DTSTART:20230511T180000Z
DTEND:20230511T200000Z
X-MICROSOFT-CDO-ALLDAYEVENT:FALSE
SUMMARY:Assemblyman Lackey Local Office Hours
DESCRIPTION:Assemblyman Lackey Local Office Hours\n\nThursday\, March 9 11:00am   1:00pm\n\nMonthly on the second Thursday\n\n\n\nCome by to speak to CA State Assemblyman Tom Lackey's Field Representative\, Pamela Balch to get your questions answered and stay informed regarding what their office is currently working on.
X-ALT-DESC;FMTTYPE=text/html:<div class="UfeRlc" data-text="Assemblyman Lackey Office Hrs." data-tooltip-horizontal-offset="0" data-tooltip-only-if-necessary="true" data-tooltip-position="bottom" data-tooltip-vertical-offset="0" jsaction="focus: eGiyHb\;mouseenter: eGiyHb\; touchstart: eGiyHb" jscontroller="eg8UTd" jsshadow="" style="line-height: 28px\; font-family: &quot\;Google Sans&quot\;\, Roboto\, Arial\, sans-serif\; font-size: 22px\; color: rgb(60\, 64\, 67)\; max-height: 56px\; overflow-wrap: break-word\; overflow: hidden\; display: -webkit-box\; -webkit-line-clamp: 2\; -webkit-box-orient: vertical\; letter-spacing: 0.2px\;"><u><span aria-level="1" id="rAECCd" role="heading">Assemblyman Lackey Local Office Hours</span></u></div>\n\n<div class="AzuXid O2VjS CyPPBf" style="color: rgb(60\, 64\, 67)\; font-size: 14px\; line-height: 18px\; font-family: Roboto\, Arial\, sans-serif\; letter-spacing: 0.2px\; margin-top: 3px\;">Thursday\, March 9<span class="amqcKf" style="margin: 0px 8px\; font-weight: 700\;">&sdot\;</span>11:00am &ndash\; 1:00pm</div>\n\n<div class="AzuXid Kcwcnf CyPPBf" style="color: rgb(60\, 64\, 67)\; font-size: 14px\; line-height: 20px\; font-family: Roboto\, Arial\, sans-serif\; letter-spacing: 0.2px\; margin-top: 1px\;">Monthly on the second Thursday<br />\n<br />\n<span style="color: rgb(60\, 64\, 67)\; font-family: Roboto\, Arial\, sans-serif\; font-size: 14px\; letter-spacing: 0.2px\;">Come by to speak to CA State Assemblyman Tom Lackey&#39\;s Field Representative\, Pamela Balch to get your questions answered and stay informed regarding what their office is currently working on.</span></div>\n
LOCATION:Big Bear Chamber of Commerce - Conference Room 630 Bartlett Road Big Bear Lake\, CA 92315 (Building that shares the Public Bathrooms in Village Bartlett Parking Lot)
UID:e.2804.27084
SEQUENCE:3
DTSTAMP:20260421T081237Z
URL:http://business.bigbearchamber.com/events/details/assemblyman-lackey-local-office-hours-05-11-2023-27084
END:VEVENT

END:VCALENDAR
