BEGIN:VCALENDAR
VERSION:2.0
PRODID:-//ChamberMaster//Event Calendar 2.0//EN
METHOD:PUBLISH
X-PUBLISHED-TTL:P3D
REFRESH-INTERVAL:P3D
CALSCALE:GREGORIAN
BEGIN:VEVENT
DTSTART:20260507T163000Z
DTEND:20260508T000000Z
X-MICROSOFT-CDO-ALLDAYEVENT:FALSE
SUMMARY:Big Bear Valley Historical Society Field Trip -The Huntington Library and Gardens
DESCRIPTION:Field Trip to\n\nTHE HUNTINGTON\n\n*LIBRARY *Art Museum *Botanical Gardens\n\nA must-see for every visitor to sAN mARINO\, The Huntington offers 130 acres of beautiful and biodiverse gardens\; iconic collections of art\, history\, and literature\; and dynamic programs that provide transformative experiences for a community of the curious. We invite all visitors on a journey of discovery\, insight\, and connection.
X-ALT-DESC;FMTTYPE=text/html:<div style="text-align:center"><span style="font-size:12px"><span style="color:rgb(26\, 26\, 26)\; font-family:messinasans\,messinasans fallback\,sans-serif"><span style="font-size:16px">Field Trip to</span><br />\n<span style="font-size:48px"><strong><span style="font-family:courier new"><span style="font-size:36px">THE HUNTINGTON</span></span></strong></span></span></span><br />\n<span style="font-size:22px"><strong><span style="font-family:times new roman"><span style="color:#0000CD">*LIBRARY&nbsp\;</span><a class="styled-link styled-link--darkest styled-link--header" href="https://www.huntington.org/library" style="box-sizing: border-box\; margin: 0px\; padding: 10px 0px\; column-gap: 5px\; align-items: center\; width: fit-content\; line-height: 1\; color: rgb(173\, 222\, 56)\; text-decoration-line: none\; text-transform: uppercase\; letter-spacing: -0.2px\; transition: color 0.3s\, text-decoration 0.3s\, box-shadow 0.3s\, -webkit-text-decoration 0.3s\; --neg-underline-value: calc(0.125rem * -1)\; --neg-spacing-1: calc(calc(4 / 16 * 1rem) * -1)\; box-shadow: rgb(173\, 222\, 56) 0px -2.5px 0px 0px inset\; display: inline !important\;"><span style="color:#0000CD">*Art Museum</span></a><span style="color:#0000CD">&nbsp\;</span><a class="styled-link styled-link--darkest styled-link--header" href="https://www.huntington.org/botanical-gardens" style="letter-spacing: -0.2px\; text-transform: uppercase\; box-sizing: border-box\; margin: 0px\; padding: 10px 0px\; column-gap: 5px\; align-items: center\; width: fit-content\; line-height: 1\; color: rgb(173\, 222\, 56)\; text-decoration-line: none\; transition: color 0.3s\, text-decoration 0.3s\, box-shadow 0.3s\, -webkit-text-decoration 0.3s\; --neg-underline-value: calc(0.125rem * -1)\; --neg-spacing-1: calc(calc(4 / 16 * 1rem) * -1)\; display: inline !important\;"><span style="color:#0000CD">*Botanical Gardens</span></a></span></strong></span></div>\n\n<p><a class="styled-link styled-link--darkest styled-link--header" href="https://www.huntington.org/art-museum" style="box-sizing: border-box\; margin: 0px\; padding: 10px 0px\; display: flex\; column-gap: 5px\; align-items: center\; width: fit-content\; font-weight: 600\; line-height: 1\; color: rgb(173\, 222\, 56)\; text-decoration-line: none\; text-transform: uppercase\; letter-spacing: -0.2px\; transition: color 0.3s\, text-decoration 0.3s\, box-shadow 0.3s\, -webkit-text-decoration 0.3s\; --neg-underline-value: calc(0.125rem * -1)\; --neg-spacing-1: calc(calc(4 / 16 * 1rem) * -1)\;"><span style="color:rgb(26\, 26\, 26)\; font-family:messinasans\,messinasans fallback\,sans-serif\; font-size:12px">A must-see for every visitor to sAN mARINO\, The Huntington offers 130 acres of beautiful and biodiverse gardens\; iconic collections of art\, history\, and literature\; and dynamic programs that provide transformative experiences for a community of the curious. We invite all visitors on a journey of discovery\, insight\, and connection.&nbsp\;</span></a></p>\n
LOCATION:The Huntington 1151 Oxford Road San Marino\, CA 91108 Parking Is Free. Space is limited\; carpooling is strongly encouraged. There are two entrances to the parking lot: Oxford Road and Allen Avenue.
UID:e.2804.28981
SEQUENCE:3
DTSTAMP:20260421T213028Z
URL:http://business.bigbearchamber.com/events/details/big-bear-valley-historical-society-field-trip-the-huntington-library-and-gardens-28981
END:VEVENT

END:VCALENDAR
