BEGIN:VCALENDAR
VERSION:2.0
PRODID:-//ChamberMaster//Event Calendar 2.0//EN
METHOD:PUBLISH
X-PUBLISHED-TTL:P3D
REFRESH-INTERVAL:P3D
CALSCALE:GREGORIAN
BEGIN:VEVENT
DTSTART:20260620T170000Z
DTEND:20260620T220000Z
X-MICROSOFT-CDO-ALLDAYEVENT:FALSE
SUMMARY:Steam Engines at the Museum
DESCRIPTION:Have you ever seen a REAL STEAM ENGINE WORK\, or for that matter heard one?  Well\, you are in luck.  The Big Bear Valley Historical Society is hosting the Western Antique Power Associates\, based out of Cal Poly Pomona\, right here at the museum!  Free\, with admission!\n\n\n\nThis is a must see demonstration!
X-ALT-DESC;FMTTYPE=text/html:Have you ever seen a REAL STEAM ENGINE WORK\, or for that matter heard one?&nbsp\; Well\, you are in luck.&nbsp\; The Big Bear Valley Historical Society is hosting the Western Antique Power Associates\, based out of Cal Poly Pomona\, right here at the museum!&nbsp\; Free\, with admission!<br />\n<br />\nThis is a must see demonstration!
LOCATION:Big Bear Valley Historical Society Museum 800 Greenway Big Bear City\, CA 92314 Just follow the sound of the engines!
UID:e.2804.28541
SEQUENCE:3
DTSTAMP:20260421T202911Z
URL:http://business.bigbearchamber.com/events/details/steam-engines-at-the-museum-28541
END:VEVENT

END:VCALENDAR
