BEGIN:VCALENDAR
VERSION:2.0
PRODID:-//ChamberMaster//Event Calendar 2.0//EN
METHOD:PUBLISH
X-PUBLISHED-TTL:P3D
REFRESH-INTERVAL:P3D
CALSCALE:GREGORIAN
BEGIN:VEVENT
DTSTART:20261029T000000Z
DTEND:20261029T010000Z
X-MICROSOFT-CDO-ALLDAYEVENT:FALSE
SUMMARY:Big Bear Area Regional Wastewater Agency Regular Governing Board Meeting
DESCRIPTION:The Big Bear Area Regional Wastewater Agency Governing Board meetings are held on the fourth Wednesday of each month at 5:00 p.m. at the BBARWA Administrative Offices located at 121 Palomino Drive\, Big Bear City\, CA 92314. We encourage the public to attend meetings and provide input on matters considered by the appointed body.
X-ALT-DESC;FMTTYPE=text/html:<span style="background-color:rgb(255\, 255\, 255)\; color:rgb(51\, 51\, 51)\; font-family:raleway\,helvetica\,sans-serif\; font-size:16px">The Big Bear Area Regional Wastewater Agency Governing Board meetings are held on the fourth Wednesday of each month at 5:00 p.m. at the BBARWA Administrative Offices located at 121 Palomino Drive\, Big Bear City\, CA 92314. We encourage the public to attend meetings and provide input on matters considered by the appointed body.&nbsp\;</span>
LOCATION:
UID:e.2804.27435
SEQUENCE:3
DTSTAMP:20260422T225734Z
URL:https://business.bigbearchamber.com/events/details/big-bear-area-regional-wastewater-agency-regular-governing-board-meeting-10-28-2026-27435
END:VEVENT

END:VCALENDAR
