BEGIN:VCALENDAR
VERSION:2.0
PRODID:-//ChamberMaster//Event Calendar 2.0//EN
METHOD:PUBLISH
X-PUBLISHED-TTL:P3D
REFRESH-INTERVAL:P3D
CALSCALE:GREGORIAN
BEGIN:VEVENT
DTSTART:20260814T010000Z
DTEND:20260814T030000Z
X-MICROSOFT-CDO-ALLDAYEVENT:FALSE
SUMMARY:Big Bear Valley Historical Society Member Appreciation Dinner
DESCRIPTION:Member Appreciation Dinner!  \n\nNo general meeting this month!
X-ALT-DESC;FMTTYPE=text/html:Member Appreciation Dinner!&nbsp\;&nbsp\;<br />\nNo general meeting this month!
LOCATION:Big Bear Valley Historical Society Museum
UID:e.2804.28977
SEQUENCE:3
DTSTAMP:20260422T212456Z
URL:https://business.bigbearchamber.com/events/details/big-bear-valley-historical-society-meeting-and-presentation-08-13-2026-28977
END:VEVENT

END:VCALENDAR
