BEGIN:VCALENDAR
VERSION:2.0
PRODID:-//ChamberMaster//Event Calendar 2.0//EN
METHOD:PUBLISH
X-PUBLISHED-TTL:P3D
REFRESH-INTERVAL:P3D
CALSCALE:GREGORIAN
BEGIN:VEVENT
DTSTART:20261001T160000Z
DTEND:20261001T230000Z
X-MICROSOFT-CDO-ALLDAYEVENT:FALSE
SUMMARY:The Big Bear (2 Day) Yoga Festival 2022
DESCRIPTION:October 1 and 2\, 2022 ... The Big Bear Yoga Festival returns for a two-day yoga\, music\, health\, food and fun. The event will be held inside and outside the Big Bear Lake Performing Art Center (Hofert Hall) at City Hall in Big Bear Lake with yoga and Vendors.  The event will be held Rain or Shine!  Register for two days or for one day as you like.\n\n\n\nThe Yoga Festival is generously sponsored by The Leafs Foundation.\n\n\n\nThis event is family friendly\, kids under 12 years old are FREE.  Join a wide range of events for beginners to experts.\n\n\n\nNew this year will be a sustainability booth educating the community on water saving\, composting and caring for our wild critters. Attendees are encouraged to use the FREE Mountain Transit trolley(BLUE line) with convenient stops throughout the valley.\n\n\n\nCome join the group to enjoy the beauty of Big Bear and professional Yoga teachers who will share their wisdom for and optimum health and wellness!
X-ALT-DESC;FMTTYPE=text/html:<br />\nOctober 1 and 2\, 2022 ... <strong>The Big Bear Yoga Festival </strong>returns for a two-day yoga\, music\, health\, food and fun. The event will be held inside and outside the Big Bear Lake Performing Art Center (Hofert Hall) at City Hall in Big Bear Lake with yoga and Vendors.&nbsp\; The event will be held Rain or Shine!&nbsp\; Register for two days or for one day as you like.<br />\n<br />\nThe Yoga Festival is generously sponsored by <strong>The Leafs Foundation.</strong><br />\n<br />\nThis event is family friendly\, kids under 12 years old are FREE.&nbsp\; Join a wide range of events for beginners to experts.<br />\n<br />\n<em>New this year </em>will be a <em>sustainability booth</em> educating the community on water saving\, composting and caring for our wild critters. Attendees are encouraged to use the FREE Mountain Transit trolley(BLUE line) with convenient stops throughout the valley.<br />\n<br />\nCome join the group to enjoy the beauty of Big Bear and professional Yoga teachers who will share their wisdom for and optimum health and wellness!
LOCATION:City Hall (Performing Arts Center in Hofert Hall) and outdoors) 39707 Big Bear Boulevard Big Bear Lake\, CXa 92315 (909) 866-5831 It is strongly recommend you take the FREE Mountain Transit trolley (BLUE LINE). Parking is limited. See the FREE Trolley Schedule here.
UID:e.2804.24619
SEQUENCE:3
DTSTAMP:20260422T225847Z
URL:https://business.bigbearchamber.com/events/details/big-bear-yoga-festival-2022-10-01-2026-24619
END:VEVENT

END:VCALENDAR
