BEGIN:VCALENDAR
VERSION:2.0
PRODID:-//ChamberMaster//Event Calendar 2.0//EN
METHOD:PUBLISH
X-PUBLISHED-TTL:P3D
REFRESH-INTERVAL:P3D
CALSCALE:GREGORIAN
BEGIN:VEVENT
DTSTART:20260505T150000Z
DTEND:20260505T170000Z
X-MICROSOFT-CDO-ALLDAYEVENT:FALSE
SUMMARY:Chamber Power Breakfast @ AppleHops
DESCRIPTION:Chamber Power Breakfast at Applebee's & IHOP (AppleHops)\n\nJoin the Big Bear Chamber of Commerce for a morning of great food\, meaningful connections\, and important community updates at our upcoming Power Breakfast!\n\nWe're honored to welcome Mayor Randall Putz as our featured guest speaker\, who will share insights and updates impacting our local community. Attendees will also hear brief presentations from The Big Bear Theatre Project\, San Bernardino Mountain Lands Trust\, and The US Adaptive Recreation Center who are doing incredible work right here in Big Bear.\n\nDate: Tuesday\, May 5\, 2026\n\nTime: 8:00 AM   10:00 AM (Registration open at 7:30 AM)\n\nLocation: Applebee's & IHOP (AppleHops)\n\n42137 Big Bear Blvd\, Big Bear Lake\n\nWhat to Expect:\n\n  Buffet-style breakfast\n\n  Networking with local business professionals\n\n  Guest Speaker: Mayor Randall Putz\n\n  Presentations from three local nonprofits\n\n  Community updates and conversation\n\nThis is a great opportunity to stay informed\, build connections\, and start your day with purpose   all before the workday begins.\n\nMembers: $20\n\nNon-Members: $25\n\nWe look forward to seeing you there!
X-ALT-DESC;FMTTYPE=text/html:<h2 data-end="161" data-section-id="2ardo7" data-start="98"><span role="text"><strong data-end="161" data-start="101">Chamber Power Breakfast at Applebee&rsquo\;s &amp\; IHOP (AppleHops)</strong></span></h2>\n\n<p data-end="322" data-start="163"><span style="font-size:14px\;"><span style="font-family:tahoma\;">Join the Big Bear Chamber of Commerce for a morning of great food\, meaningful connections\, and important community updates at our upcoming <strong data-end="321" data-start="302">Power Breakfast</strong>!</span></span></p>\n\n<p data-end="601" data-start="324"><span style="font-size:14px\;"><span style="font-family:tahoma\;">We&rsquo\;re honored to welcome <strong data-end="371" data-start="349">Mayor Randall Putz</strong> as our featured guest speaker\, who will share insights and updates impacting our local community. Attendees will also hear brief presentations from <a href="https://www.bigbeartheatreproject.org/">The Big Bear Theatre Project</a>\, <a href="https://sbmlt.net/">San Bernardino Mountain Lands Trust</a>\, and The <a href="https://www.usarc.org/">US Adaptive Recreation Center</a>&nbsp\;who are doing incredible work right here in Big Bear.</span></span></p>\n\n<p data-end="754" data-start="608"><span style="font-size:14px\;"><span style="font-family:tahoma\;"><strong data-end="617" data-start="608">Date:</strong> Tuesday\, May 5\, 2026<br data-end="641" data-start="638" />\n<strong data-end="650" data-start="641">Time:</strong> 8:00 AM &ndash\; 10:00 AM (Registration open at 7:30 AM)<br data-end="672" data-start="669" />\n<strong data-end="685" data-start="672">Location:</strong> <a href="https://restaurants.applebees.com/en-us/ca/big-bear-lake/42137-big-bear-boulevard-74029">Applebee&rsquo\;s &amp\; IHOP (AppleHops)</a><br data-end="718" data-start="715" />\n42137 Big Bear Blvd\, Big Bear Lake</span></span></p>\n\n<h3 data-end="784" data-section-id="17803gy" data-start="761"><span style="font-size:14px\;"><span style="font-family:tahoma\;"><span role="text"><strong data-end="784" data-start="765">What to Expect:</strong></span></span></span></h3>\n\n<p data-end="983" data-start="785"><span style="font-size:14px\;"><span style="font-family:tahoma\;">&bull\; Buffet-style breakfast<br data-end="812" data-start="809" />\n&bull\; Networking with local business professionals<br data-end="861" data-start="858" />\n&bull\; Guest Speaker: Mayor Randall Putz<br data-end="899" data-start="896" />\n&bull\; Presentations from three local nonprofits<br data-end="945" data-start="942" />\n&bull\; Community updates and conversation</span></span></p>\n\n<p data-end="1119" data-start="990"><span style="font-size:14px\;"><span style="font-family:tahoma\;">This is a great opportunity to stay informed\, build connections\, and start your day with purpose &mdash\; all before the workday begins.</span></span></p>\n\n<p data-end="1162" data-start="1121"><span style="font-size:14px\;"><span style="font-family:tahoma\;"><strong data-end="1133" data-start="1121">Members:</strong> $20<br data-end="1140" data-start="1137" />\n<strong data-end="1156" data-start="1140">Non-Members:</strong> $25</span></span></p>\n\n<p data-end="1208" data-start="1169"><span style="font-size:14px\;"><span style="font-family:tahoma\;">We look forward to seeing you there!</span></span></p>\n
LOCATION:
UID:e.2804.28991
SEQUENCE:3
DTSTAMP:20260423T190711Z
URL:https://business.bigbearchamber.com/events/details/chamber-power-breakfast-applehops-28991
END:VEVENT

END:VCALENDAR
