BEGIN:VCALENDAR
VERSION:2.0
PRODID:-//ChamberMaster//Event Calendar 2.0//EN
METHOD:PUBLISH
X-PUBLISHED-TTL:P3D
REFRESH-INTERVAL:P3D
CALSCALE:GREGORIAN
BEGIN:VEVENT
DTSTART;VALUE=DATE:20260514
DTEND;VALUE=DATE:20260515
TRANSP:TRANSPARENT
X-MICROSOFT-CDO-ALLDAYEVENT:TRUE
SUMMARY:Keller Williams REDDAY Blood Drive
DESCRIPTION:?? SAVE THE DATE   REDDAY MAY 14TH ?? At Keller Williams\, REDDAY is more than just a day  it's our annual tradition of giving back to the communities we love. Every year\, we roll up our sleeves and serve in a big way and this year\, we're making a lifesaving impact with our Blood Drive on May 14th ?? Why donate? Because one donation can save lives. It's simple\, powerful\, and needed now more than ever. We'd love for you to be part of it ?? ?? Join us\, give back\, and help make a difference right here in our community. Sign up to donate and be someone's hero. #KWRedDay #GiveWhereYouLive #BigBearStrong #CommunityFirst #BloodDrive #SaveLives\n\nhttps://giftoflife.lstream.org/donor/schedules/drive_schedule/127175
X-ALT-DESC;FMTTYPE=text/html:<p><span style="font-family:segoe ui historic\,segoe ui\,helvetica\,arial\,sans-serif\; font-size:15px">?? SAVE THE DATE &ndash\; REDDAY MAY 14TH ?? At Keller Williams\, REDDAY is more than just a day&hellip\; it&rsquo\;s our annual tradition of giving back to the communities we love. Every year\, we roll up our sleeves and serve in a big way&mdash\;and this year\, we&rsquo\;re making a lifesaving impact with our Blood Drive on May 14th ?? Why donate? Because one donation can save lives. It&rsquo\;s simple\, powerful\, and needed now more than ever. We&rsquo\;d love for you to be part of it ?? ?? Join us\, give back\, and help make a difference right here in our community. Sign up to donate and be someone&rsquo\;s hero. #KWRedDay #GiveWhereYouLive #BigBearStrong #CommunityFirst #BloodDrive #SaveLives</span></p>\n\n<p><a href="https://giftoflife.lstream.org/donor/schedules/drive_schedule/127175" id="drive_schedule_link" style="box-sizing: border-box\; margin: 0px\; padding: 0px\; border: 0px\; font-size: 14px\; vertical-align: baseline\; background-image: initial\; background-position: 0px 0px\; background-size: initial\; background-repeat: initial\; background-attachment: initial\; background-origin: initial\; background-clip: initial\; color: rgb(52\, 55\, 73)\; text-decoration-line: none\; font-family: Lato\; overflow-wrap: break-word\; outline: 0px !important\;" target="_blank">https://giftoflife.lstream.org/donor/schedules/drive_schedule/127175</a></p>\n
LOCATION:Keller Williams Big Bear Market Center 42149 Big Bear Blvd Big Bear Lake CA 92315
UID:e.2804.28988
SEQUENCE:3
DTSTAMP:20260421T083058Z
URL:https://business.bigbearchamber.com/events/details/keller-williams-redday-blood-drive-28988
END:VEVENT

END:VCALENDAR
