BEGIN:VCALENDAR
VERSION:2.0
PRODID:-//ChamberMaster//Event Calendar 2.0//EN
METHOD:PUBLISH
X-PUBLISHED-TTL:P3D
REFRESH-INTERVAL:P3D
CALSCALE:GREGORIAN
BEGIN:VEVENT
DTSTART:20260417T010000Z
DTEND:20260417T030000Z
X-MICROSOFT-CDO-ALLDAYEVENT:FALSE
SUMMARY:Mountain Top Trivia Launch Night @ Village Sports Bar
DESCRIPTION:Mountain Top Trivia   Launch Night at Village Sports Bar\n\nBig Bear's newest trivia night is here! Join us for the official launch of Mountain Top Trivia at Village Sports Bar for a fun evening of trivia\, laughs\, and friendly competition.\n\nFree to play\n\nTeams of 2 6 (or come solo and join a team)\n\nPrizes for top teams\n\nNo experience necessary\n\nDate: Thursday\, April 16\n\nTime: 6:00 PM\n\nLocation: Village Sports Bar\n\n40789 Village Drive\, Big Bear Lake\n\nEnjoy featured food and drink specials throughout the night:\n\nFood Specials:\n\n  Heart Attack Burger & Fries   $19\n\n  Moo Melt & Fries   $15\n\n  Wing Flight   $19\n\n  Funnel Fries   $10\n\nDrink Specials:\n\n  $5 "Kill the Keg" Pints (select beer)\n\n  $3 Jello Shots\n\n  Big Bear Sunrise   $15\n\nWhether you're a trivia pro or just looking for a fun night out\, grab your friends and come check out Big Bear's newest midweek hangout.
X-ALT-DESC;FMTTYPE=text/html:<p data-end="327" data-start="267"><span style="font-size:14px\;"><span style="font-family:tahoma\;"><strong data-end="327" data-start="267">Mountain Top Trivia &ndash\; Launch Night at Village Sports Bar</strong></span></span></p>\n\n<p data-end="512" data-start="329"><span style="font-size:14px\;"><span style="font-family:tahoma\;">Big Bear&rsquo\;s newest trivia night is here! Join us for the official launch of&nbsp\;<strong data-end="427" data-start="404">Mountain Top Trivia</strong> at Village Sports Bar for a fun evening of trivia\, laughs\, and friendly competition.</span></span></p>\n\n<p data-end="642" data-start="514"><span style="font-size:14px\;"><span style="font-family:tahoma\;"><strong data-end="533" data-start="517">Free to play</strong><br data-end="536" data-start="533" />\nTeams of 2&ndash\;6 (or come solo and join a team)<br data-end="588" data-start="585" />\nPrizes for top teams<br data-end="614" data-start="611" />\nNo experience necessary</span></span></p>\n\n<p data-end="766" data-start="644"><span style="font-size:14px\;"><span style="font-family:tahoma\;"><strong data-end="653" data-start="644">Date:</strong> Thursday\, April 16<br data-end="675" data-start="672" />\n<strong data-end="684" data-start="675">Time:</strong> 6:00 PM<br data-end="695" data-start="692" />\n<strong data-end="708" data-start="695">Location:</strong> Village Sports Bar<br data-end="730" data-start="727" />\n40789 Village Drive\, Big Bear Lake</span></span></p>\n\n<p data-end="828" data-start="768"><span style="font-size:14px\;"><span style="font-family:tahoma\;">Enjoy featured food and drink specials throughout the night:</span></span></p>\n\n<p data-end="960" data-start="830"><span style="font-size:14px\;"><span style="font-family:tahoma\;"><strong data-end="848" data-start="830">Food Specials:</strong><br data-end="851" data-start="848" />\n&bull\; Heart Attack Burger &amp\; Fries &ndash\; $19<br data-end="889" data-start="886" />\n&bull\; Moo Melt &amp\; Fries &ndash\; $15<br data-end="916" data-start="913" />\n&bull\; Wing Flight &ndash\; $19<br data-end="938" data-start="935" />\n&bull\; Funnel Fries &ndash\; $10</span></span></p>\n\n<p data-end="1071" data-start="962"><span style="font-size:14px\;"><span style="font-family:tahoma\;"><strong data-end="981" data-start="962">Drink Specials:</strong><br data-end="984" data-start="981" />\n&bull\; $5 &ldquo\;Kill the Keg&rdquo\; Pints (select beer)<br data-end="1026" data-start="1023" />\n&bull\; $3 Jello Shots<br data-end="1045" data-start="1042" />\n&bull\; Big Bear Sunrise &ndash\; $15</span></span></p>\n\n<p data-end="1209" data-start="1073"><span style="font-size:14px\;"><span style="font-family:tahoma\;">Whether you&rsquo\;re a trivia pro or just looking for a fun night out\, grab your friends and come check out Big Bear&rsquo\;s newest midweek hangout.</span></span></p>\n
LOCATION:Village Sports Bar 40789 Village Drive\, Big Bear Lake
UID:e.2804.28990
SEQUENCE:3
DTSTAMP:20260422T083947Z
URL:https://business.bigbearchamber.com/events/details/mountain-top-trivia-launch-night-village-sports-bar-28990
END:VEVENT

END:VCALENDAR
