BEGIN:VCALENDAR
VERSION:2.0
PRODID:-//ChamberMaster//Event Calendar 2.0//EN
METHOD:PUBLISH
X-PUBLISHED-TTL:P3D
REFRESH-INTERVAL:P3D
CALSCALE:GREGORIAN
BEGIN:VEVENT
DTSTART:20260523T170000Z
DTEND:20260525T230000Z
X-MICROSOFT-CDO-ALLDAYEVENT:FALSE
SUMMARY:Opening Weekend at the Big Bear Valley Museum AND PHOTO CONTEST WEEKEND!!
DESCRIPTION:The Big Bear Valley Historical Society is proudly opening its museum for the summer! Come and join us on opening day weekend for a historical look at Big Bear Valley's past!  Our hours are 10:00 AM until 4:00 PM!\n\n\n\nThis year we are having a photo contest during opening weekend!  Get all the info. from our website - bigbearvalleyhistory.com
X-ALT-DESC;FMTTYPE=text/html:The Big Bear Valley Historical Society is proudly opening its museum for the summer! Come and join us on opening day weekend for a historical look at Big Bear Valley&#39\;s past!&nbsp\; Our hours are 10:00 AM until 4:00 PM!<br />\n<br />\n<span style="color:#FF0000">This year we are having a photo contest during opening weekend!&nbsp\; Get all the info. from our website - bigbearvalleyhistory.com</span>
LOCATION:We are located at 800 Greenway in Big Bear City. Enter off Greenway right into our fenced parking lot! Some of the map programs are not accurate!
UID:e.2804.28515
SEQUENCE:3
DTSTAMP:20260422T151118Z
URL:https://business.bigbearchamber.com/events/details/opening-weekend-at-the-big-bear-valley-museum-28515
END:VEVENT

END:VCALENDAR
